BEGIN:VCALENDAR
VERSION:2.0
PRODID:-//Contratero//ES
CALSCALE:GREGORIAN
METHOD:PUBLISH
BEGIN:VEVENT
UID:2025 PST 18 DIGITALIZACIÓN RECURSOS NORTE LITORAL@contratero.es
DTSTAMP:20260425T133552Z
DTSTART:20250829T235959
DTEND:20250830T005959
SUMMARY:Cierre: Asistencia técnica integral para la digitalización
DESCRIPTION:Asistencia técnica integral para la digitalización y geolocalización de los recursos e itinerarios de la zona norte litoral para facilitar su interpretación\, generando contenidos digitales para cada p...\\n\\nOrganismo: Consejo de Administración de la Empresa Municipal de Turismo de Santander M.P. S.A.\\n\\nVer en Contratero: https://contratero.es/contracts/2025 PST 18 DIGITALIZACIÓN RECURSOS NORTE LITORAL
URL:https://contratero.es/contracts/2025 PST 18 DIGITALIZACIÓN RECURSOS NORTE LITORAL
STATUS:CONFIRMED
BEGIN:VALARM
TRIGGER:-P1D
ACTION:DISPLAY
DESCRIPTION:Recordatorio: Asistencia técnica integral pa
END:VALARM
END:VEVENT
END:VCALENDAR